BEGIN:VCALENDAR
VERSION:2.0
PRODID:-//Lutheran Outdoor Ministries - ECPv6.15.20//NONSGML v1.0//EN
CALSCALE:GREGORIAN
METHOD:PUBLISH
X-WR-CALNAME:Lutheran Outdoor Ministries
X-ORIGINAL-URL:https://www.lomnetwork.org
X-WR-CALDESC:Events for Lutheran Outdoor Ministries
REFRESH-INTERVAL;VALUE=DURATION:PT1H
X-Robots-Tag:noindex
X-PUBLISHED-TTL:PT1H
BEGIN:VTIMEZONE
TZID:America/New_York
BEGIN:DAYLIGHT
TZOFFSETFROM:-0500
TZOFFSETTO:-0400
TZNAME:EDT
DTSTART:20220313T070000
END:DAYLIGHT
BEGIN:STANDARD
TZOFFSETFROM:-0400
TZOFFSETTO:-0500
TZNAME:EST
DTSTART:20221106T060000
END:STANDARD
BEGIN:DAYLIGHT
TZOFFSETFROM:-0500
TZOFFSETTO:-0400
TZNAME:EDT
DTSTART:20230312T070000
END:DAYLIGHT
BEGIN:STANDARD
TZOFFSETFROM:-0400
TZOFFSETTO:-0500
TZNAME:EST
DTSTART:20231105T060000
END:STANDARD
BEGIN:DAYLIGHT
TZOFFSETFROM:-0500
TZOFFSETTO:-0400
TZNAME:EDT
DTSTART:20240310T070000
END:DAYLIGHT
BEGIN:STANDARD
TZOFFSETFROM:-0400
TZOFFSETTO:-0500
TZNAME:EST
DTSTART:20241103T060000
END:STANDARD
BEGIN:DAYLIGHT
TZOFFSETFROM:-0500
TZOFFSETTO:-0400
TZNAME:EDT
DTSTART:20250309T070000
END:DAYLIGHT
BEGIN:STANDARD
TZOFFSETFROM:-0400
TZOFFSETTO:-0500
TZNAME:EST
DTSTART:20251102T060000
END:STANDARD
BEGIN:DAYLIGHT
TZOFFSETFROM:-0500
TZOFFSETTO:-0400
TZNAME:EDT
DTSTART:20260308T070000
END:DAYLIGHT
BEGIN:STANDARD
TZOFFSETFROM:-0400
TZOFFSETTO:-0500
TZNAME:EST
DTSTART:20261101T060000
END:STANDARD
END:VTIMEZONE
BEGIN:VEVENT
DTSTART;VALUE=DATE:20250202
DTEND;VALUE=DATE:20250207
DTSTAMP:20260425T202720
CREATED:20250128T022406Z
LAST-MODIFIED:20250128T022406Z
UID:11817-1738454400-1738886399@www.lomnetwork.org
SUMMARY:LOM Leaders Forum
DESCRIPTION:A vital gathering designed to bring together Board members\, committee leaders\, territory coordinators\, and contract staff for a time of strategic planning\, collaboration\, and community building.
URL:https://www.lomnetwork.org/event/lom-leaders-forum/
LOCATION:Carol Joy Holling Camp\, Ashland\, NE
END:VEVENT
BEGIN:VEVENT
DTSTART;VALUE=DATE:20250106
DTEND;VALUE=DATE:20250109
DTSTAMP:20260425T202720
CREATED:20241028T143424Z
LAST-MODIFIED:20241028T152845Z
UID:11611-1736121600-1736380799@www.lomnetwork.org
SUMMARY:LOM East Territory Gathering
DESCRIPTION:Registration will open immediately after the November Conference
URL:https://www.lomnetwork.org/event/lom-east-territory-gathering/
LOCATION:Sequanota
END:VEVENT
BEGIN:VEVENT
DTSTART;VALUE=DATE:20241202
DTEND;VALUE=DATE:20241205
DTSTAMP:20260425T202720
CREATED:20241028T185342Z
LAST-MODIFIED:20241107T001420Z
UID:11622-1733097600-1733356799@www.lomnetwork.org
SUMMARY:Experiential Facilitation 101 Workshop
DESCRIPTION:Learn Foundational Skills Necessary to Lead Experiential Programs\nHave you ever…wanted to learn how to lead experiential activities and programs? This three-day training provides an important first step in building the foundational skills necessary to lead experiential programs. \nLearn More
URL:https://www.lomnetwork.org/event/experientialfacilitation101/
LOCATION:Bethel Horizons
END:VEVENT
BEGIN:VEVENT
DTSTART;VALUE=DATE:20241111
DTEND;VALUE=DATE:20241116
DTSTAMP:20260425T202720
CREATED:20240122T135242Z
LAST-MODIFIED:20240122T135913Z
UID:10988-1731283200-1731715199@www.lomnetwork.org
SUMMARY:LOM Annual Conference
DESCRIPTION:All LOM Outdoor Ministry Professionals and Board Members are invited! Registration for the 2024 LOM Conference will be available in mid-2024. \nIt will be great to get together November 11-15\, 2024\, at The Maritime Conference Center\, Baltimore\, MD. The theme of Be More will play out over three days as the gathered outdoor ministry professionals will focus on ways to be BOLD leaders\, LOVING leaders\, and SENSIBLE leaders in their contexts. Workshops for each day will focus on these themes\, and large group engagements will carry the thread through the event so participants will leave with a toolbox that empowers them to BE BOLD\, BE LOVING\, BE SENSIBLE\, and BE MORE. We believe that the current context of outdoor ministry leadership calls for leaders to step out in new and adaptive ways. Tangible practices are needed to meet the changing needs of campers\, year-round and seasonal staff\, families\, and congregations\, and this conference will offer those to all participants. “God does not want us to be shy with God’s Gifts\, but to be bold\, loving\, and sensible.” —2 Timothy 1:7 \nThe conference schedule allows for plenty of time for discussion with peers in ministry\, as well as dynamic worship and fellowship. The annual conference is the perfect time to connect with old friends\, meet new partners in ministry\, share ideas and get excited about all the opportunities that our work in Lutheran Outdoor Ministries has to offer. Learn more about all the amazing projects taking place around LOM\, spend time getting to know exhibitors and partners in ministry\, bid on amazing items at the annual LOM auction. \nMore info: https://www.lomnetwork.org/conference/
URL:https://www.lomnetwork.org/event/lom-annual-conference-2024/
LOCATION:The Maritime Conference Center\, Linthicum Heights\, MD
END:VEVENT
BEGIN:VEVENT
DTSTART;VALUE=DATE:20241024
DTEND;VALUE=DATE:20241025
DTSTAMP:20260425T202720
CREATED:20240930T005523Z
LAST-MODIFIED:20240930T142926Z
UID:11548-1729728000-1729814399@www.lomnetwork.org
SUMMARY:Character at Camp Grant Opportunity – What You Need to Know
DESCRIPTION:Thursday\, October 24 \, 1 Eastern\, 12 Central\, 11 Mountain\, 10 Pacific – with ACA\nA description of what the webinar will cover \nJoin us to learn more about this grant opportunity. This webinar will talk about next steps in this initiative and grant process and how it might apply to you. ACA received from Lilly Endowment Inc. a significant grant\, over $20 million of which will be regranted to camps. This initiative will be conducted over the next six years and will include peer learning opportunities\, networking\, training\, and tools. Beginning in 2025\, eligible nonprofit camps will have the opportunity to apply for grants to support their own character development programs. This is an informational event. \nPresenters \nLaurie Browne\, Senior Director of Research and Education\, American Camp Association\nGrechen Throop\, Director of Membership\, American Camp Association \nYour registration will be confirmed with a zoom link. \nRegister here: https://www.lomnetwork.org/registration/character-at-camp-grant-opportunity-what-you-need-to-know/
URL:https://www.lomnetwork.org/event/character-at-camp-grant-opportunity-what-you-need-to-know/
LOCATION:Webinar
END:VEVENT
BEGIN:VEVENT
DTSTART;VALUE=DATE:20241002
DTEND;VALUE=DATE:20241003
DTSTAMP:20260425T202720
CREATED:20240930T010012Z
LAST-MODIFIED:20240930T142707Z
UID:11552-1727827200-1727913599@www.lomnetwork.org
SUMMARY:Connecting Your Outdoor Ministry to the ELCA Foundation
DESCRIPTION:The Next LOM Live Podcast: CONNECTING YOUR OUTDOOR MINISTRY TO THE ELCA FOUNDATION\nWednesday\, October 2\n2 Eastern\, 1 Central\, 12 Mountain\, 11 Pacific   \nJoin LOM and the ELCA Foundation for a webinar focused on the importance of building an intentional planned giving program for your camp and how to go about getting started. Learn about all the services provided by the ELCA Foundation and the benefits of building a strong partnership with the regional gift planner for your region. Representing the ELCA Foundation will be Josh Kerney and Sister Marianne Brock\, former camp director at Camp Nawakwa (PA). \nRegister here: https://www.lomnetwork.org/podcasts/elca-foundation/
URL:https://www.lomnetwork.org/event/connecting-your-outdoor-ministry-to-the-elca-foundation/
LOCATION:Webinar
END:VEVENT
BEGIN:VEVENT
DTSTART;VALUE=DATE:20240923
DTEND;VALUE=DATE:20240927
DTSTAMP:20260425T202720
CREATED:20240119T013433Z
LAST-MODIFIED:20240122T013941Z
UID:10938-1727049600-1727395199@www.lomnetwork.org
SUMMARY:Total Inclusion! Symposium – West Midwest Territory
DESCRIPTION:There will be four Symposium events – one in each of the four LOM territories. Each of them will have almost identical program features that will focus on widening the welcome and inclusion for persons who are often marginalized\, particularly persons of color\, persons who are LGBTQ\, and persons who live with disabilities. Each LOM organization will be invited to have their executive director and two program staff members participate. Additional participants will be welcomed as space at the host site allows. \nFor the executive director and two program staff members\, all expenses for the program and room & board at the host site will be covered by the Total Inclusion! grant. The grant will also cover airfare reimbursements for those who fly. \nAirport: Minot International Airport (MOT). Latest flight arrival on September 23\, 1:00pm. Earliest flight departure on September 26\, 11:00am. \nRegistration deadline: September 9 \nRegister for the Total Inclusion! Symposium\nClick here for information about Total Inclusion
URL:https://www.lomnetwork.org/event/total-inclusion-symposium-west-midwest/
LOCATION:Metigoshe\, Bottineau\, ND
END:VEVENT
BEGIN:VEVENT
DTSTART;VALUE=DATE:20240922
DTEND;VALUE=DATE:20240929
DTSTAMP:20260425T202720
CREATED:20240731T144923Z
LAST-MODIFIED:20240731T145821Z
UID:11356-1726963200-1727567999@www.lomnetwork.org
SUMMARY:Compass Points Continuing Education Certificate Program for Outdoor Ministry Professionals
DESCRIPTION:More Information & to Register: http://www.compasspointsprogram.org/upcoming-courses-fall2024/ \n\nUpcoming Courses in 2024\n\n\nBelow is the schedule for upcoming courses and the directed study in Site Administration. The two face-to-face classes will be held back-to-back during the week of September 22-28 at Rolling Ridge Conference Center in North Andover\, Massachusetts (participants have the option of taking one class or both). \nSeptember 22-25             Development\n\nSeptember 25-28             Personnel and Leadership
URL:https://www.lomnetwork.org/event/compass-points-continuing-education-certificate-program-for-outdoor-ministry-professionals/
LOCATION:Rolling Ridge (MA)
END:VEVENT
BEGIN:VEVENT
DTSTART;VALUE=DATE:20240713
DTEND;VALUE=DATE:20240721
DTSTAMP:20260425T202720
CREATED:20240122T182847Z
LAST-MODIFIED:20240122T183404Z
UID:11006-1720828800-1721519999@www.lomnetwork.org
SUMMARY:MYLE\, the tAble\, ELCA Youth Gathering and Young Adult Gathering
DESCRIPTION:The ELCA Youth Gathering is a faith formation event for young people including MYLE\, the tAble\, the Gathering\, and the Young Adult Gathering. \nFind more information at https://www.elca.church/gathering
URL:https://www.lomnetwork.org/event/myle-the-table-elca-youth-gathering-and-young-adult-gathering/
LOCATION:New Orleans\, LA
END:VEVENT
BEGIN:VEVENT
DTSTART;VALUE=DATE:20240408
DTEND;VALUE=DATE:20240412
DTSTAMP:20260425T202720
CREATED:20240119T013218Z
LAST-MODIFIED:20240122T013736Z
UID:10935-1712534400-1712879999@www.lomnetwork.org
SUMMARY:Total Inclusion! Symposium – East Midwest Territory
DESCRIPTION:There will be four Symposium events – one in each of the four LOM territories. Each of them will have almost identical program features that will focus on widening the welcome and inclusion for persons who are often marginalized\, particularly persons of color\, persons who are LGBTQ\, and persons who live with disabilities. Each LOM organization will be invited to have their executive director and two program staff members participate. Additional participants will be welcomed as space at the host site allows. \nFor the executive director and two program staff members\, all expenses for the program and room & board at the host site will be covered by the Total Inclusion! grant. The grant will also cover airfare reimbursements for those who fly. \nAirport: Dane County Regional (MSN). Latest flight arrival on April 8\, 1:00pm. Earliest flight departure on April 11\, 11:00am. \nRegistration deadline: March 25 \nRegister for the Total Inclusion! Symposium\nClick here for information about Total Inclusion
URL:https://www.lomnetwork.org/event/total-inclusion-symposium-east-midwest/
LOCATION:Bethel Horizons\, Dodgeville\, WI
END:VEVENT
BEGIN:VEVENT
DTSTART;VALUE=DATE:20240318
DTEND;VALUE=DATE:20240322
DTSTAMP:20260425T202720
CREATED:20240119T012919Z
LAST-MODIFIED:20240122T013629Z
UID:10931-1710720000-1711065599@www.lomnetwork.org
SUMMARY:Total Inclusion! Symposium - West Territory
DESCRIPTION:There will be four Symposium events – one in each of the four LOM territories. Each of them will have almost identical program features that will focus on widening the welcome and inclusion for persons who are often marginalized\, particularly persons of color\, persons who are LGBTQ\, and persons who live with disabilities. Each LOM organization will be invited to have their executive director and two program staff members participate. Additional participants will be welcomed as space at the host site allows. \nFor the executive director and two program staff members\, all expenses for the program and room & board at the host site will be covered by the Total Inclusion! grant. The grant will also cover airfare reimbursements for those who fly. \nAirport: Phoenix Sky Haven (PHX). Latest flight arrival on March 18\, 1:00pm. Earliest flight departure on March 21\, 11:00am. \nRegistration deadline: March 1 \nRegister for the Total Inclusion! Symposium\nClick here for information about Total Inclusion
URL:https://www.lomnetwork.org/event/total-inclusion-symposium-west/
LOCATION:Spirit in the Desert\, Carefree\, AZ
END:VEVENT
BEGIN:VEVENT
DTSTART;VALUE=DATE:20240313
DTEND;VALUE=DATE:20240317
DTSTAMP:20260425T202720
CREATED:20240122T134733Z
LAST-MODIFIED:20240122T134733Z
UID:10983-1710288000-1710633599@www.lomnetwork.org
SUMMARY:Compass Points - Program Design and Implementation
DESCRIPTION:Program is the most important facet of outdoor ministry. From determining the need for a program to evaluating the final product\, today’s camp and retreat leaders need to be knowledgeable in how programs are designed and implemented. This course will focus on an overview of human growth and development in relation to outdoor ministry\, and will look at program models and how they serve as an extension of a ministry’s mission statement. Participants will also study how our summer programs can be part of a year-round ministry.\nThis course will be held at Columbia Theological Seminary (near Atlanta\, Georgia) and will be taught by Dr. Kathy Dawson and Joel Winchip\, faculty members of Columbia Theological Seminary in Decatur\, GA. \nBy the end of the course\, participants will:\n• Identify the characteristics that differentiate program structures\n• Analyze the progression we find in program offerings\n• Consider how their program is portrayed through their marketing image. \nhttp://www.compasspointsprogram.org/
URL:https://www.lomnetwork.org/event/compass-points-program-design-and-implementation/
LOCATION:Columbia Theological Seminary\, Decatur\, GA
END:VEVENT
BEGIN:VEVENT
DTSTART;VALUE=DATE:20240310
DTEND;VALUE=DATE:20240314
DTSTAMP:20260425T202720
CREATED:20240122T134412Z
LAST-MODIFIED:20240122T134515Z
UID:10979-1710028800-1710374399@www.lomnetwork.org
SUMMARY:Compass Points - Biblical and Theological Foundations
DESCRIPTION:What makes our church camps so uniquely wonderful and sets us apart from other camping organizations is our firm foundation in our beliefs as Christians. This course will enable participants to deepen their knowledge and strengthen their understanding of our biblical and theological roots as the core value for all that we do in our outdoor ministry settings. \nAt the end of this course\, participants will:\n• Articulate Biblical themes that form the foundations of outdoor ministry\n• Have tools for training staff to lead effective Bible Studies\n• Learn how theology should shape the practice of ministry in each outdoor ministry site\n• Engage in guided theological discussions\n• Understand how campers/participants may encounter Christ through the mundane and extraordinary events of living in community \nThis course will be held at Columbia Theological Seminary (near Atlanta\, Georgia) and will be taught by Dr. Martha Moore-Keish and Dr. Brennan Breed\, faculty members of Columbia Theological Seminary in Decatur\, GA. \nhttp://www.compasspointsprogram.org/
URL:https://www.lomnetwork.org/event/compass-points-biblical-and-theological-foundations/
LOCATION:Columbia Theological Seminary\, Decatur\, GA
END:VEVENT
BEGIN:VEVENT
DTSTART;VALUE=DATE:20240304
DTEND;VALUE=DATE:20240308
DTSTAMP:20260425T202720
CREATED:20240119T012020Z
LAST-MODIFIED:20240122T013527Z
UID:10928-1709510400-1709855999@www.lomnetwork.org
SUMMARY:Total Inclusion! Symposium - East Territory
DESCRIPTION:There will be four Symposium events – one in each of the four LOM territories. Each of them will have almost identical program features that will focus on widening the welcome and inclusion for persons who are often marginalized\, particularly persons of color\, persons who are LGBTQ\, and persons who live with disabilities. Each LOM organization will be invited to have their executive director and two program staff members participate. Additional participants will be welcomed as space at the host site allows. \nFor the executive director and two program staff members\, all expenses for the program and room & board at the host site will be covered by the Total Inclusion! grant. The grant will also cover airfare reimbursements for those who fly. \nAirport: Raleigh-Durham (RDU). Latest flight arrival on March 4\, 1:00pm. Earliest flight departure on March 7\, 11:00am. \nRegistration deadline: February 26 \nRegister for the Total Inclusion! Symposium\nClick here for information about Total Inclusion
URL:https://www.lomnetwork.org/event/total-inclusion-symposium-east/
LOCATION:Camp Agape\, Fuquay-Varina\, NC
END:VEVENT
BEGIN:VEVENT
DTSTART;VALUE=DATE:20240129
DTEND;VALUE=DATE:20240202
DTSTAMP:20260425T202720
CREATED:20240122T133643Z
LAST-MODIFIED:20240122T134212Z
UID:10973-1706486400-1706831999@www.lomnetwork.org
SUMMARY:Western Midwest Territory Program Share-A-Thon
DESCRIPTION:You are invited to the West Midwest Program Share-A-Thon at Shetek Lutheran Ministries Monday January 29th-Thursday February 1st. (open to all territories) \nThe cost is $125 per person. You can call and pay ahead of time 507-763-3567 or you can pay with a card\, check\, or cash when you arrive. \nOn Monday you can arrive anytime between 4:30-5:45\, we will have supper at 6:00pm! On Thursday morning we will serve you breakfast and wrap up in the morning. \nWe are looking forward to hosting you at Shetek Lutheran Ministries for the Program Share-A-Thon! If you are planning on attending\, please fill out the form below so I can start planning for the event! -Lexie \nWe will be staying in our new Youth and Adult Lodge for the Program Share-A-Thon! Our lodge has 4 bunk style rooms with both double and twin sized beds. Bedding and towels will be provided! One room has 6 beds and the rest all have 10. Each room has two private shower rooms\, one private bathroom\, and a sink inside the room. Two of our rooms are handicap accessible. In the common area of the lodge there are couches\, tables and chairs\, a bathroom\, and a kitchenette. \nRegistration: https://docs.google.com/forms/d/e/1FAIpQLScQkLQYrDktvuY1yGNXV3VJaKlOZH45MgDFsDuUjHeMuNgekA/viewform
URL:https://www.lomnetwork.org/event/western-midwest-territory-program-share-a-thon/
LOCATION:Camp Shetek\, Slayton\, MN
END:VEVENT
BEGIN:VEVENT
DTSTART;VALUE=DATE:20231205
DTEND;VALUE=DATE:20231208
DTSTAMP:20260425T202720
CREATED:20231129T142820Z
LAST-MODIFIED:20231129T142820Z
UID:10801-1701734400-1701993599@www.lomnetwork.org
SUMMARY:Western Midwest Territory Gathering
DESCRIPTION:Camp Onomia (MN)
URL:https://www.lomnetwork.org/event/western-midwest-territory-gathering/
END:VEVENT
END:VCALENDAR